BEGIN:VCALENDAR
VERSION:2.0
PRODID:-//Pokhara Lincoln International College - ECPv6.15.11//NONSGML v1.0//EN
CALSCALE:GREGORIAN
METHOD:PUBLISH
X-ORIGINAL-URL:https://milanv10.plic.edu.np
X-WR-CALDESC:Events for Pokhara Lincoln International College
REFRESH-INTERVAL;VALUE=DURATION:PT1H
X-Robots-Tag:noindex
X-PUBLISHED-TTL:PT1H
BEGIN:VTIMEZONE
TZID:UTC
BEGIN:STANDARD
TZOFFSETFROM:+0000
TZOFFSETTO:+0000
TZNAME:UTC
DTSTART:20240101T000000
END:STANDARD
END:VTIMEZONE
BEGIN:VEVENT
DTSTART;VALUE=DATE:20251014
DTEND;VALUE=DATE:20251015
DTSTAMP:20260419T215500
CREATED:20240822T033642Z
LAST-MODIFIED:20250903T192246Z
UID:8613-1760400000-1760486399@milanv10.plic.edu.np
SUMMARY:Little Step & PLIC YouTube Vlog Competition 2023 - Golden Opportunity to Be a YouTuber
DESCRIPTION:About The Event				\n				\n									Join us for the Future Minds Symposium\, a thought-provoking educational event designed to inspire and empower individuals to navigate the challenges and opportunities of tomorrow’s world. This symposium brings together leading experts\, visionaries\, and innovators from various fields to explore cutting-edge ideas and share insights on shaping the future.								\n				\n		\n				\n							\n\n						\n				\n								\n			\n			\n						\n\n									\n						\n							Interactive Workshops:						\n					 \n				\n									\n						Connect with like-minded individuals\, professionals\, and mentors. Build a network that will support your personal and professional growth\, fostering collaboration and idea exchange.					 \n				\n			\n			\n		\n						\n				\n							\n\n						\n				\n								\n			\n			\n						\n\n									\n						\n							INetworking Opportunities:						\n					 \n				\n									\n						Hear from renowned thought leaders who will delve into topics such as artificial intelligence\, sustainability\, and the future of work. Gain valuable perspectives to help you thrive.					 \n				\n			\n			\n		\n						\n				\n							\n\n						\n				\n								\n			\n			\n						\n\n									\n						\n							Networking Opportunities:						\n					 \n				\n									\n						Hear from renowned thought leaders who will delve into topics such as artificial intelligence\, sustainability\, and the future of work. Gain valuable perspectives.					 \n				\n			\n			\n		\n						\n				\n							\n\n						\n				\n								\n			\n			\n						\n\n									\n						\n							Registration:						\n					 \n				\n									\n						Secure your spot today and be part of the Future Minds Symposium. Early bird registration is now open at www.Unipix Don't miss this opportunity to gain valuable insights.					 \n				\n			\n			\n		\n						\n				\n				\n				\n		\n		\n				\n					INFORMATION				\n				\n				\n					\n	\n	Date & Time:	\n			October 14\, 2025\n\n		\n\n\n	\n				\n				\n				\n				\n					\n	Cost:\n$80 				\n				\n				\n				\n					\n	\n	Website:	\n	event.unipix.com\n\n				\n				\n				\n		\n		\n				\n				\n					\n	\n	Organizer\n	Assistant Teacher\n	\n	\n\n	Phone:\n					\n			-254 457 658			\n	 \n\n\n	\n\n	Website:View Organizer Website \n\n\n	\n	Email:\n					\n			organize@info.com			\n	 \n\n\n\n				\n				\n				\n				\n		\n				\n					VANUE				\n				\n				\n					\n				\n				\n	\n	Starry Haven Events Center\n	\n	Address:\n	\n\n\n\n	Yarra Park\, UK\n\n\n\n\n\n\n	+ Google Map \n\n\n	\n	Phone:\n					\n			(+1) 0 221 457 441			\n	 \n\n\n	\n	Website:\n	View Venue Website \n\n\n\n	\n\n\n\n		\n	\n				\n				\n				\n				\n				\n					\n				\n		\n					\n		\n		\n				\n					Event Speakers				\n				\n				\n		\n		\n				\n					Rick ZonsonAssistant Teacher 				\n				\n							\n							\n					\n						Facebook-f\n											\n				\n							\n					\n						Twitter\n											\n				\n							\n					\n						Instagram\n											\n				\n							\n					\n						Rt-linkedin-in\n											\n				\n					\n						\n				\n		\n				\n					Thomas FredTeacher 				\n				\n							\n							\n					\n						Facebook-f\n											\n				\n							\n					\n						Twitter\n											\n				\n							\n					\n						Instagram\n											\n				\n							\n					\n						Rt-linkedin-in\n											\n				\n					\n						\n				\n		\n				\n					Albert MackHead Teacher 				\n				\n							\n							\n					\n						Facebook-f\n											\n				\n							\n					\n						Twitter\n											\n				\n							\n					\n						Instagram\n											\n				\n							\n					\n						Rt-linkedin-in\n											\n				\n					\n						\n				\n		\n				\n					Micheal AlfredAssistant Teacher 				\n				\n							\n							\n					\n						Facebook-f\n											\n				\n							\n					\n						Twitter\n											\n				\n							\n					\n						Instagram\n											\n				\n							\n					\n						Rt-linkedin-in
URL:https://milanv10.plic.edu.np/event/little-step-plic-youtube-vlog-competition-2023-golden-opportunity-to-be-a-youtuber/
LOCATION:Starry Haven Events Center\, Yarra Park\, UK
ATTACH;FMTTYPE=image/png:https://milanv10.plic.edu.np/wp-content/uploads/2024/08/plic-youtube-vlog-competition-2023.png
ORGANIZER;CN="Assistant Teacher":MAILTO:organize@info.com
END:VEVENT
END:VCALENDAR